BEGIN:VCALENDAR
VERSION:2.0
PRODID:-//Wave Fibre Mill - ECPv6.15.20//NONSGML v1.0//EN
CALSCALE:GREGORIAN
METHOD:PUBLISH
X-ORIGINAL-URL:https://wavefibremill.com
X-WR-CALDESC:Events for Wave Fibre Mill
REFRESH-INTERVAL;VALUE=DURATION:PT1H
X-Robots-Tag:noindex
X-PUBLISHED-TTL:PT1H
BEGIN:VTIMEZONE
TZID:America/Toronto
BEGIN:DAYLIGHT
TZOFFSETFROM:-0500
TZOFFSETTO:-0400
TZNAME:EDT
DTSTART:20240310T070000
END:DAYLIGHT
BEGIN:STANDARD
TZOFFSETFROM:-0400
TZOFFSETTO:-0500
TZNAME:EST
DTSTART:20241103T060000
END:STANDARD
BEGIN:DAYLIGHT
TZOFFSETFROM:-0500
TZOFFSETTO:-0400
TZNAME:EDT
DTSTART:20250309T070000
END:DAYLIGHT
BEGIN:STANDARD
TZOFFSETFROM:-0400
TZOFFSETTO:-0500
TZNAME:EST
DTSTART:20251102T060000
END:STANDARD
BEGIN:DAYLIGHT
TZOFFSETFROM:-0500
TZOFFSETTO:-0400
TZNAME:EDT
DTSTART:20260308T070000
END:DAYLIGHT
BEGIN:STANDARD
TZOFFSETFROM:-0400
TZOFFSETTO:-0500
TZNAME:EST
DTSTART:20261101T060000
END:STANDARD
END:VTIMEZONE
BEGIN:VEVENT
DTSTART;TZID=America/Toronto:20250621T173000
DTEND;TZID=America/Toronto:20250621T223000
DTSTAMP:20260422T060512
CREATED:20250508T200556Z
LAST-MODIFIED:20250527T191755Z
UID:10000022-1750527000-1750545000@wavefibremill.com
SUMMARY:RunwayTO
DESCRIPTION:RunwayTO is a Toronto-based non-profit organization dedicated to supporting artists\, fashion designers\, models\, and creatives. Focused on emerging talent\, RunwayTO provides a platform for bold expression and innovation in the fashion industry. The organization is committed to promoting social responsibility\, diversity\, and inclusion\, while raising awareness of important social issues. \nThrough its runway shows\, RunwayTO amplifies marginalized voices\, showcases new talent\, and advocates for sustainable practices and ethical standards in fashion. The goal is to inspire individuals to use their creativity to make a meaningful impact\, both within the industry and beyond. \nOn June 21\, 2025\, RunwayTO returns with a fresh celebration of emerging fashion\, and designer Wave Weir will make her first appearance at the event. While she’s no stranger to Toronto’s fashion scene\, this will be her RunwayTO debut\, where she’ll present 20 bold looks in a high-energy show full of creativity and style. \n			\n			\n				\n				\n				\n				\n				\n				\n				\n				\n				\n				\n			\n				GET TICKETS
URL:https://wavefibremill.com/event/runwayto/
LOCATION:The Parkdale Hall\, 1605 Queen St W #2\, Toronto\, Ontario\, M6K 3B8\, Canada
CATEGORIES:Events
ATTACH;FMTTYPE=image/jpeg:https://wavefibremill.com/wp-content/uploads/2025/05/RunwayTO.jpg
END:VEVENT
END:VCALENDAR